BEGIN:VCALENDAR
VERSION:2.0
PRODID:-//die-crubbits.de - ECPv6.15.17.1//NONSGML v1.0//EN
CALSCALE:GREGORIAN
METHOD:PUBLISH
X-ORIGINAL-URL:https://die-crubbits.de
X-WR-CALDESC:Veranstaltungen für die-crubbits.de
REFRESH-INTERVAL;VALUE=DURATION:PT1H
X-Robots-Tag:noindex
X-PUBLISHED-TTL:PT1H
BEGIN:VTIMEZONE
TZID:Europe/Berlin
BEGIN:DAYLIGHT
TZOFFSETFROM:+0100
TZOFFSETTO:+0200
TZNAME:CEST
DTSTART:20240331T010000
END:DAYLIGHT
BEGIN:STANDARD
TZOFFSETFROM:+0200
TZOFFSETTO:+0100
TZNAME:CET
DTSTART:20241027T010000
END:STANDARD
BEGIN:DAYLIGHT
TZOFFSETFROM:+0100
TZOFFSETTO:+0200
TZNAME:CEST
DTSTART:20250330T010000
END:DAYLIGHT
BEGIN:STANDARD
TZOFFSETFROM:+0200
TZOFFSETTO:+0100
TZNAME:CET
DTSTART:20251026T010000
END:STANDARD
BEGIN:DAYLIGHT
TZOFFSETFROM:+0100
TZOFFSETTO:+0200
TZNAME:CEST
DTSTART:20260329T010000
END:DAYLIGHT
BEGIN:STANDARD
TZOFFSETFROM:+0200
TZOFFSETTO:+0100
TZNAME:CET
DTSTART:20261025T010000
END:STANDARD
END:VTIMEZONE
BEGIN:VEVENT
DTSTART;TZID=Europe/Berlin:20250308T170000
DTEND;TZID=Europe/Berlin:20250308T170000
DTSTAMP:20260421T222106
CREATED:20241118T090642Z
LAST-MODIFIED:20241118T090945Z
UID:569-1741453200-1741453200@die-crubbits.de
SUMMARY:Crubbits Unplugged (geschlossene Veranstaltung)
DESCRIPTION:
URL:https://die-crubbits.de/event/crubbits-unplugged-geschlossene-veranstaltung/
LOCATION:Crubbits Unplugged\, ehem. kath. Kirche\, Dittersdorfer Weg 1a\, Glashütte\, 01768
END:VEVENT
END:VCALENDAR