BEGIN:VCALENDAR
VERSION:2.0
PRODID:-//die-crubbits.de - ECPv6.15.17.1//NONSGML v1.0//EN
CALSCALE:GREGORIAN
METHOD:PUBLISH
X-WR-CALNAME:die-crubbits.de
X-ORIGINAL-URL:https://die-crubbits.de
X-WR-CALDESC:Veranstaltungen für die-crubbits.de
REFRESH-INTERVAL;VALUE=DURATION:PT1H
X-Robots-Tag:noindex
X-PUBLISHED-TTL:PT1H
BEGIN:VTIMEZONE
TZID:Europe/Berlin
BEGIN:DAYLIGHT
TZOFFSETFROM:+0100
TZOFFSETTO:+0200
TZNAME:CEST
DTSTART:20220327T010000
END:DAYLIGHT
BEGIN:STANDARD
TZOFFSETFROM:+0200
TZOFFSETTO:+0100
TZNAME:CET
DTSTART:20221030T010000
END:STANDARD
BEGIN:DAYLIGHT
TZOFFSETFROM:+0100
TZOFFSETTO:+0200
TZNAME:CEST
DTSTART:20230326T010000
END:DAYLIGHT
BEGIN:STANDARD
TZOFFSETFROM:+0200
TZOFFSETTO:+0100
TZNAME:CET
DTSTART:20231029T010000
END:STANDARD
BEGIN:DAYLIGHT
TZOFFSETFROM:+0100
TZOFFSETTO:+0200
TZNAME:CEST
DTSTART:20240331T010000
END:DAYLIGHT
BEGIN:STANDARD
TZOFFSETFROM:+0200
TZOFFSETTO:+0100
TZNAME:CET
DTSTART:20241027T010000
END:STANDARD
END:VTIMEZONE
BEGIN:VEVENT
DTSTART;TZID=Europe/Berlin:20230902T203000
DTEND;TZID=Europe/Berlin:20230902T203000
DTSTAMP:20260422T211424
CREATED:20230103T152753Z
LAST-MODIFIED:20230103T152813Z
UID:398-1693686600-1693686600@die-crubbits.de
SUMMARY:Dorffest
DESCRIPTION:
URL:https://die-crubbits.de/event/dorffest-3/
LOCATION:Festplatz 01744 Dippoldiswalde OT Reichstädt
END:VEVENT
BEGIN:VEVENT
DTSTART;TZID=Europe/Berlin:20230909T190000
DTEND;TZID=Europe/Berlin:20230909T190000
DTSTAMP:20260422T211424
CREATED:20230103T152919Z
LAST-MODIFIED:20230103T152922Z
UID:402-1694286000-1694286000@die-crubbits.de
SUMMARY:Weinfest
DESCRIPTION:
URL:https://die-crubbits.de/event/weinfest/
LOCATION:Klosterhof\, 01796 Pirna
END:VEVENT
BEGIN:VEVENT
DTSTART;TZID=Europe/Berlin:20230916T203000
DTEND;TZID=Europe/Berlin:20230916T203000
DTSTAMP:20260422T211424
CREATED:20230516T135929Z
LAST-MODIFIED:20230516T140105Z
UID:432-1694896200-1694896200@die-crubbits.de
SUMMARY:Kirmes
DESCRIPTION:
URL:https://die-crubbits.de/event/kirmes/
LOCATION:Reinhardtsdorf\, Festplatz an der Turnhalle\, 01814
END:VEVENT
END:VCALENDAR