BEGIN:VCALENDAR
VERSION:2.0
PRODID:-//die-crubbits.de - ECPv6.15.17.1//NONSGML v1.0//EN
CALSCALE:GREGORIAN
METHOD:PUBLISH
X-WR-CALNAME:die-crubbits.de
X-ORIGINAL-URL:https://die-crubbits.de
X-WR-CALDESC:Veranstaltungen für die-crubbits.de
REFRESH-INTERVAL;VALUE=DURATION:PT1H
X-Robots-Tag:noindex
X-PUBLISHED-TTL:PT1H
BEGIN:VTIMEZONE
TZID:Europe/Berlin
BEGIN:DAYLIGHT
TZOFFSETFROM:+0100
TZOFFSETTO:+0200
TZNAME:CEST
DTSTART:20230326T010000
END:DAYLIGHT
BEGIN:STANDARD
TZOFFSETFROM:+0200
TZOFFSETTO:+0100
TZNAME:CET
DTSTART:20231029T010000
END:STANDARD
BEGIN:DAYLIGHT
TZOFFSETFROM:+0100
TZOFFSETTO:+0200
TZNAME:CEST
DTSTART:20240331T010000
END:DAYLIGHT
BEGIN:STANDARD
TZOFFSETFROM:+0200
TZOFFSETTO:+0100
TZNAME:CET
DTSTART:20241027T010000
END:STANDARD
BEGIN:DAYLIGHT
TZOFFSETFROM:+0100
TZOFFSETTO:+0200
TZNAME:CEST
DTSTART:20250330T010000
END:DAYLIGHT
BEGIN:STANDARD
TZOFFSETFROM:+0200
TZOFFSETTO:+0100
TZNAME:CET
DTSTART:20251026T010000
END:STANDARD
END:VTIMEZONE
BEGIN:VEVENT
DTSTART;TZID=Europe/Berlin:20240203T190000
DTEND;TZID=Europe/Berlin:20240203T190000
DTSTAMP:20260422T141817
CREATED:20230921T070721Z
LAST-MODIFIED:20231004T050557Z
UID:457-1706986800-1706986800@die-crubbits.de
SUMMARY:Fasching in Kurort Hartha
DESCRIPTION:
URL:https://die-crubbits.de/event/fasching/
LOCATION:Niederer Gasthof\, Talstraße 16\, Dippoldiswalde OT Reichstädt\, 01744
END:VEVENT
BEGIN:VEVENT
DTSTART;TZID=Europe/Berlin:20240210T210000
DTEND;TZID=Europe/Berlin:20240210T210000
DTSTAMP:20260422T141817
CREATED:20230921T071713Z
LAST-MODIFIED:20231128T072940Z
UID:461-1707598800-1707598800@die-crubbits.de
SUMMARY:Fasching Freital Wurgwitz
DESCRIPTION:
URL:https://die-crubbits.de/event/fasching-2/
LOCATION:Freital\, Pesterwitzer Straße 6\, Freital\, 01705
END:VEVENT
BEGIN:VEVENT
DTSTART;TZID=Europe/Berlin:20240224T200000
DTEND;TZID=Europe/Berlin:20240224T200000
DTSTAMP:20260422T141817
CREATED:20231106T124751Z
LAST-MODIFIED:20231106T124801Z
UID:467-1708804800-1708804800@die-crubbits.de
SUMMARY:Geburtstagsfeier (geschlossene Veranstaltung)
DESCRIPTION:
URL:https://die-crubbits.de/event/geburtstagsfeier-geschlossene-veranstaltung/
LOCATION:Begegnungsstätte Boot 01768 Schlottwitz
END:VEVENT
END:VCALENDAR