BEGIN:VCALENDAR
VERSION:2.0
PRODID:-//die-crubbits.de - ECPv6.15.17.1//NONSGML v1.0//EN
CALSCALE:GREGORIAN
METHOD:PUBLISH
X-WR-CALNAME:die-crubbits.de
X-ORIGINAL-URL:https://die-crubbits.de
X-WR-CALDESC:Veranstaltungen für die-crubbits.de
REFRESH-INTERVAL;VALUE=DURATION:PT1H
X-Robots-Tag:noindex
X-PUBLISHED-TTL:PT1H
BEGIN:VTIMEZONE
TZID:Europe/Berlin
BEGIN:DAYLIGHT
TZOFFSETFROM:+0100
TZOFFSETTO:+0200
TZNAME:CEST
DTSTART:20230326T010000
END:DAYLIGHT
BEGIN:STANDARD
TZOFFSETFROM:+0200
TZOFFSETTO:+0100
TZNAME:CET
DTSTART:20231029T010000
END:STANDARD
BEGIN:DAYLIGHT
TZOFFSETFROM:+0100
TZOFFSETTO:+0200
TZNAME:CEST
DTSTART:20240331T010000
END:DAYLIGHT
BEGIN:STANDARD
TZOFFSETFROM:+0200
TZOFFSETTO:+0100
TZNAME:CET
DTSTART:20241027T010000
END:STANDARD
BEGIN:DAYLIGHT
TZOFFSETFROM:+0100
TZOFFSETTO:+0200
TZNAME:CEST
DTSTART:20250330T010000
END:DAYLIGHT
BEGIN:STANDARD
TZOFFSETFROM:+0200
TZOFFSETTO:+0100
TZNAME:CET
DTSTART:20251026T010000
END:STANDARD
END:VTIMEZONE
BEGIN:VEVENT
DTSTART;TZID=Europe/Berlin:20240504T000000
DTEND;TZID=Europe/Berlin:20240504T000000
DTSTAMP:20260422T104747
CREATED:20240103T073953Z
LAST-MODIFIED:20240103T074043Z
UID:499-1714780800-1714780800@die-crubbits.de
SUMMARY:Hochzeit (geschlossene Veranstaltung)
DESCRIPTION:
URL:https://die-crubbits.de/event/hochzeit-geschlossene-veranstaltung/
LOCATION:Hotel Gasthof zum Erbegricht\, Schenkberg 1\, Höckendorf\, 01744
END:VEVENT
BEGIN:VEVENT
DTSTART;TZID=Europe/Berlin:20240525T180000
DTEND;TZID=Europe/Berlin:20240525T220000
DTSTAMP:20260422T104747
CREATED:20240109T063345Z
LAST-MODIFIED:20240109T063416Z
UID:502-1716660000-1716674400@die-crubbits.de
SUMMARY:Mailerfest Tharandt
DESCRIPTION:
URL:https://die-crubbits.de/event/mailerfest-tharandt/
LOCATION:Meilerplatz\, Meilerplatz Breiter Grund\, Tharandt\, 01737
END:VEVENT
END:VCALENDAR