BEGIN:VCALENDAR
VERSION:2.0
PRODID:-//die-crubbits.de - ECPv6.15.17.1//NONSGML v1.0//EN
CALSCALE:GREGORIAN
METHOD:PUBLISH
X-ORIGINAL-URL:https://die-crubbits.de
X-WR-CALDESC:Veranstaltungen für die-crubbits.de
REFRESH-INTERVAL;VALUE=DURATION:PT1H
X-Robots-Tag:noindex
X-PUBLISHED-TTL:PT1H
BEGIN:VTIMEZONE
TZID:Europe/Berlin
BEGIN:DAYLIGHT
TZOFFSETFROM:+0100
TZOFFSETTO:+0200
TZNAME:CEST
DTSTART:20230326T010000
END:DAYLIGHT
BEGIN:STANDARD
TZOFFSETFROM:+0200
TZOFFSETTO:+0100
TZNAME:CET
DTSTART:20231029T010000
END:STANDARD
BEGIN:DAYLIGHT
TZOFFSETFROM:+0100
TZOFFSETTO:+0200
TZNAME:CEST
DTSTART:20240331T010000
END:DAYLIGHT
BEGIN:STANDARD
TZOFFSETFROM:+0200
TZOFFSETTO:+0100
TZNAME:CET
DTSTART:20241027T010000
END:STANDARD
BEGIN:DAYLIGHT
TZOFFSETFROM:+0100
TZOFFSETTO:+0200
TZNAME:CEST
DTSTART:20250330T010000
END:DAYLIGHT
BEGIN:STANDARD
TZOFFSETFROM:+0200
TZOFFSETTO:+0100
TZNAME:CET
DTSTART:20251026T010000
END:STANDARD
END:VTIMEZONE
BEGIN:VEVENT
DTSTART;TZID=Europe/Berlin:20240907T203000
DTEND;TZID=Europe/Berlin:20240907T203000
DTSTAMP:20260422T053857
CREATED:20240103T073716Z
LAST-MODIFIED:20240103T073752Z
UID:496-1725741000-1725741000@die-crubbits.de
SUMMARY:Kirmes Kühnhaide
DESCRIPTION:
URL:https://die-crubbits.de/event/kirmes-kuehnhaide/
LOCATION:Grundschule „Am Schwarzwasser“\, Kühnhaidner Hauptstraße 20\, Marienberg OT Kühnhaide\, 09496
END:VEVENT
BEGIN:VEVENT
DTSTART;TZID=Europe/Berlin:20240914T200000
DTEND;TZID=Europe/Berlin:20240914T200000
DTSTAMP:20260422T053857
CREATED:20231108T134729Z
LAST-MODIFIED:20231108T134733Z
UID:479-1726344000-1726344000@die-crubbits.de
SUMMARY:Dorffest Cunnersdorf
DESCRIPTION:
URL:https://die-crubbits.de/event/dorffest-cunnersdorf-2/
LOCATION:Cunnersdorf\, Mittelweg 6\, Glashütte-OT Cunnersdorf\, 01768
END:VEVENT
BEGIN:VEVENT
DTSTART;TZID=Europe/Berlin:20240921T200000
DTEND;TZID=Europe/Berlin:20240921T200000
DTSTAMP:20260422T053857
CREATED:20240319T111215Z
LAST-MODIFIED:20240319T111750Z
UID:519-1726948800-1726948800@die-crubbits.de
SUMMARY:Geburtstagsfeier (geschlossene Veranstaltung)
DESCRIPTION:
URL:https://die-crubbits.de/event/geburtstagsfeier-geschlossene-veranstaltung-2/
LOCATION:Nassau\, Festwiese\, Nassau\, 09623
END:VEVENT
END:VCALENDAR