BEGIN:VCALENDAR
VERSION:2.0
PRODID:-//die-crubbits.de - ECPv6.15.17.1//NONSGML v1.0//EN
CALSCALE:GREGORIAN
METHOD:PUBLISH
X-ORIGINAL-URL:https://die-crubbits.de
X-WR-CALDESC:Veranstaltungen für die-crubbits.de
REFRESH-INTERVAL;VALUE=DURATION:PT1H
X-Robots-Tag:noindex
X-PUBLISHED-TTL:PT1H
BEGIN:VTIMEZONE
TZID:Europe/Berlin
BEGIN:DAYLIGHT
TZOFFSETFROM:+0100
TZOFFSETTO:+0200
TZNAME:CEST
DTSTART:20240331T010000
END:DAYLIGHT
BEGIN:STANDARD
TZOFFSETFROM:+0200
TZOFFSETTO:+0100
TZNAME:CET
DTSTART:20241027T010000
END:STANDARD
BEGIN:DAYLIGHT
TZOFFSETFROM:+0100
TZOFFSETTO:+0200
TZNAME:CEST
DTSTART:20250330T010000
END:DAYLIGHT
BEGIN:STANDARD
TZOFFSETFROM:+0200
TZOFFSETTO:+0100
TZNAME:CET
DTSTART:20251026T010000
END:STANDARD
BEGIN:DAYLIGHT
TZOFFSETFROM:+0100
TZOFFSETTO:+0200
TZNAME:CEST
DTSTART:20260329T010000
END:DAYLIGHT
BEGIN:STANDARD
TZOFFSETFROM:+0200
TZOFFSETTO:+0100
TZNAME:CET
DTSTART:20261025T010000
END:STANDARD
END:VTIMEZONE
BEGIN:VEVENT
DTSTART;TZID=Europe/Berlin:20250501T100000
DTEND;TZID=Europe/Berlin:20250501T100000
DTSTAMP:20260421T181601
CREATED:20241204T103236Z
LAST-MODIFIED:20241204T103516Z
UID:579-1746093600-1746093600@die-crubbits.de
SUMMARY:Flottenparade (Unplugged)
DESCRIPTION:
URL:https://die-crubbits.de/event/flottenparade-unplugged/
LOCATION:Elbe\, Dresden
END:VEVENT
BEGIN:VEVENT
DTSTART;TZID=Europe/Berlin:20250502T203000
DTEND;TZID=Europe/Berlin:20250502T203000
DTSTAMP:20260421T181601
CREATED:20250319T115128Z
LAST-MODIFIED:20250319T115215Z
UID:597-1746217800-1746217800@die-crubbits.de
SUMMARY:Blütenfest Borthen
DESCRIPTION:
URL:https://die-crubbits.de/event/bluetenfest-borthen/
LOCATION:Schlossgarten\, Am Landgut 1\, 01809 Dohna OT Röhrsdorf\, Am Landgut 1\, Dohna OT Röhrsdorf\, 01809
END:VEVENT
BEGIN:VEVENT
DTSTART;TZID=Europe/Berlin:20250524T170000
DTEND;TZID=Europe/Berlin:20250524T170000
DTSTAMP:20260421T181601
CREATED:20250203T124405Z
LAST-MODIFIED:20250204T073602Z
UID:588-1748106000-1748106000@die-crubbits.de
SUMMARY:Crubbits Unplugged (geschlossene Veranstaltung)
DESCRIPTION:
URL:https://die-crubbits.de/event/geburtstag-geschlossene-veranstaltung/
LOCATION:John\, Reinhardtsgrimma
END:VEVENT
BEGIN:VEVENT
DTSTART;TZID=Europe/Berlin:20250529T160000
DTEND;TZID=Europe/Berlin:20250529T160000
DTSTAMP:20260421T181601
CREATED:20250504T091728Z
LAST-MODIFIED:20250504T091734Z
UID:601-1748534400-1748534400@die-crubbits.de
SUMMARY:Himmelfahrt im Sitzen
DESCRIPTION:
URL:https://die-crubbits.de/event/himmelfahrt-im-sitzen/
LOCATION:Mittlere Hauptstraße 38\, 01768 Dittersdorf\, Mittlere Hauptstraße 38\, Dittersdorf\, 01768
END:VEVENT
BEGIN:VEVENT
DTSTART;TZID=Europe/Berlin:20250531T200000
DTEND;TZID=Europe/Berlin:20250531T200000
DTSTAMP:20260421T181601
CREATED:20241107T144133Z
LAST-MODIFIED:20241107T144602Z
UID:548-1748721600-1748721600@die-crubbits.de
SUMMARY:Stadtfest Rabenau
DESCRIPTION:
URL:https://die-crubbits.de/event/stadtfest-rabenau/
LOCATION:Stadtfest Rabenau\, Markt\, Rabenau\, 01734
END:VEVENT
END:VCALENDAR