BEGIN:VCALENDAR
VERSION:2.0
PRODID:-//die-crubbits.de - ECPv6.15.17.1//NONSGML v1.0//EN
CALSCALE:GREGORIAN
METHOD:PUBLISH
X-ORIGINAL-URL:https://die-crubbits.de
X-WR-CALDESC:Veranstaltungen für die-crubbits.de
REFRESH-INTERVAL;VALUE=DURATION:PT1H
X-Robots-Tag:noindex
X-PUBLISHED-TTL:PT1H
BEGIN:VTIMEZONE
TZID:Europe/Berlin
BEGIN:DAYLIGHT
TZOFFSETFROM:+0100
TZOFFSETTO:+0200
TZNAME:CEST
DTSTART:20240331T010000
END:DAYLIGHT
BEGIN:STANDARD
TZOFFSETFROM:+0200
TZOFFSETTO:+0100
TZNAME:CET
DTSTART:20241027T010000
END:STANDARD
BEGIN:DAYLIGHT
TZOFFSETFROM:+0100
TZOFFSETTO:+0200
TZNAME:CEST
DTSTART:20250330T010000
END:DAYLIGHT
BEGIN:STANDARD
TZOFFSETFROM:+0200
TZOFFSETTO:+0100
TZNAME:CET
DTSTART:20251026T010000
END:STANDARD
BEGIN:DAYLIGHT
TZOFFSETFROM:+0100
TZOFFSETTO:+0200
TZNAME:CEST
DTSTART:20260329T010000
END:DAYLIGHT
BEGIN:STANDARD
TZOFFSETFROM:+0200
TZOFFSETTO:+0100
TZNAME:CET
DTSTART:20261025T010000
END:STANDARD
END:VTIMEZONE
BEGIN:VEVENT
DTSTART;TZID=Europe/Berlin:20250712T193000
DTEND;TZID=Europe/Berlin:20250712T193000
DTSTAMP:20260421T151808
CREATED:20241107T144251Z
LAST-MODIFIED:20241107T144255Z
UID:551-1752348600-1752348600@die-crubbits.de
SUMMARY:Klitscherfest Geising
DESCRIPTION:
URL:https://die-crubbits.de/event/klitscherfest-geising/
LOCATION:Klitscherfest Geising\, Bühne vor der Kirche\, Hauptstraße\, Geising\, 01778
END:VEVENT
BEGIN:VEVENT
DTSTART;TZID=Europe/Berlin:20250719T200000
DTEND;TZID=Europe/Berlin:20250719T200000
DTSTAMP:20260421T151808
CREATED:20241107T144426Z
LAST-MODIFIED:20241107T144430Z
UID:554-1752955200-1752955200@die-crubbits.de
SUMMARY:Sommernachtsball Lauta
DESCRIPTION:
URL:https://die-crubbits.de/event/sommernachtsball-lauta/
LOCATION:Sommernachtsball Lauta\, Lautaer Hauptstrasse 13\, Marienberg OT Lauta\, 09496
END:VEVENT
BEGIN:VEVENT
DTSTART;TZID=Europe/Berlin:20250726T150000
DTEND;TZID=Europe/Berlin:20250726T150000
DTSTAMP:20260421T151808
CREATED:20250203T124633Z
LAST-MODIFIED:20250204T073539Z
UID:591-1753542000-1753542000@die-crubbits.de
SUMMARY:Crubbits Unplugged (geschlossene Veranstaltung)
DESCRIPTION:
URL:https://die-crubbits.de/event/geburtstag-geschlossene-veranstaltung-2/
LOCATION:Dave\, Dresden
END:VEVENT
END:VCALENDAR