BEGIN:VCALENDAR
VERSION:2.0
PRODID:-//die-crubbits.de - ECPv6.15.17.1//NONSGML v1.0//EN
CALSCALE:GREGORIAN
METHOD:PUBLISH
X-ORIGINAL-URL:https://die-crubbits.de
X-WR-CALDESC:Veranstaltungen für die-crubbits.de
REFRESH-INTERVAL;VALUE=DURATION:PT1H
X-Robots-Tag:noindex
X-PUBLISHED-TTL:PT1H
BEGIN:VTIMEZONE
TZID:Europe/Berlin
BEGIN:DAYLIGHT
TZOFFSETFROM:+0100
TZOFFSETTO:+0200
TZNAME:CEST
DTSTART:20240331T010000
END:DAYLIGHT
BEGIN:STANDARD
TZOFFSETFROM:+0200
TZOFFSETTO:+0100
TZNAME:CET
DTSTART:20241027T010000
END:STANDARD
BEGIN:DAYLIGHT
TZOFFSETFROM:+0100
TZOFFSETTO:+0200
TZNAME:CEST
DTSTART:20250330T010000
END:DAYLIGHT
BEGIN:STANDARD
TZOFFSETFROM:+0200
TZOFFSETTO:+0100
TZNAME:CET
DTSTART:20251026T010000
END:STANDARD
BEGIN:DAYLIGHT
TZOFFSETFROM:+0100
TZOFFSETTO:+0200
TZNAME:CEST
DTSTART:20260329T010000
END:DAYLIGHT
BEGIN:STANDARD
TZOFFSETFROM:+0200
TZOFFSETTO:+0100
TZNAME:CET
DTSTART:20261025T010000
END:STANDARD
END:VTIMEZONE
BEGIN:VEVENT
DTSTART;TZID=Europe/Berlin:20250919T200000
DTEND;TZID=Europe/Berlin:20250919T220000
DTSTAMP:20260421T122050
CREATED:20241128T122911Z
LAST-MODIFIED:20250708T115033Z
UID:576-1758312000-1758319200@die-crubbits.de
SUMMARY:Weinfest Pesterwitz
DESCRIPTION:
URL:https://die-crubbits.de/event/weinfest-pesterwitz/
LOCATION:Weinfest Pesterwitz\, Dorfplatz\, Freital-Pesterwitz\, 01705
END:VEVENT
BEGIN:VEVENT
DTSTART;TZID=Europe/Berlin:20250926T180000
DTEND;TZID=Europe/Berlin:20250926T180000
DTSTAMP:20260421T122050
CREATED:20250604T061756Z
LAST-MODIFIED:20250604T061837Z
UID:609-1758909600-1758909600@die-crubbits.de
SUMMARY:Oktoberfest
DESCRIPTION:
URL:https://die-crubbits.de/event/oktoberfest/
LOCATION:Eventscheune Ranunkelhof\, Hauptplatz 12\, 01796 Pirna\, Hauptplatz 12\, Pirna\, 01796
END:VEVENT
END:VCALENDAR